Workbook

Sheet Sheet1
A1: The parker`s wedding | C1: Angelic Catering Services
A3: Wedding Date: | B3: Saturday, August 25th 2018
A4: Number of Guests: | B4: 225
A6: Budget | B6: 50000
A7: Estimated Expenses | B7: 48200
A8: Available Budget Left Option 3 | B8: =B6-B7 -> 1800
A11: Equipment rental
A12: price | B12: price2
A13: Tent | B13: 500
A14: Dance Floor | B14: 1000
A15: Sound Equipment | B15: 1100
A16: Linens | B16: 900
A17: Flatware | B17: 650
A18: Stemware | B18: 1125
A19: Tables/Chairs | B19: 4000
A20: Total | B20: =SUM(B13:B19) -> 9275
A23: FOOD
A24: Menu
A25: OPTION 1 | B25: OPTION 2 | C25: OPTION 3
A27: Tuna tartar cone | B27: WINTRY PEAR SALAD | C27: BRUSCHETTA
A28: Filet mignon | B28: PORK TENDERLOIN WITH VEGGIES | C28: SLOW ROASTED LAMB
A29: Pudding parfait | B29: CHOCOLATE CHEESECAKE | C29: CHOCOLATE MOUSSE WITH VANILLA ICE CREAM
A31: Select an option:
A32: Option 3
A33: 25000 | B33: 22000 | C33: 27000
A35: Decoration
A36: DESCRIPTION | B36: Prices
A37: Center piece | B37: 1000
A38: Flower Arrangement | B38: 1000
A39: Bouquet | B39: 1000
A40: LIGHTING | B40: 500
A41: Total | B41: =SUM(B37:B40) -> 3500
A43: DJ
A44: Description | B44: Prices
A45: 6 1/2 Hours of entertainment
A46: Total | B46: 1000
A48: STAFF | B48: Prices
A49: Description | B49: Prices
A50: Servers | B50: 1125
A51: Bartenders | B51: 300
...

Sheet Sheet2
A1: Tent
A2: Dance Floor
A3: Sound Equipment
A4: Linens
A5: Flatware
A6: Stemware
A7: Tables/Chairs
A8: OPTION 1
A9: OPTION 2
A10: OPTION 3
A11: DJ
A12: Servers
... A30: FOOD
A32: category | B32: cost
A33: =Sheet1!A11 -> Equipment rental | B33: =Sheet1!B20 -> 9275
A34: =Sheet1!A23 -> FOOD | B34: =Sheet1!A33 -> 25000
A35: =Sheet1!A35 -> Decoration | B35: =Sheet1!B41 -> 3500
A36: =Sheet1!A43 -> DJ | B36: =Sheet1!B46 -> 1000
A37: =Sheet1!A48 -> STAFF | B37: =Sheet1!B53 -> 3925
A38: =Sheet1!A55 -> OPEN BAR | B38: =Sheet1!B67 -> 3500
A40: category | B40: cost
A41: =Sheet1!A11 -> Equipment rental | B41: =Sheet1!B20 -> 9275
A42: =Sheet1!A23 -> FOOD | B42: =Sheet1!B33 -> 22000
A43: =Sheet1!A35 -> Decoration | B43: =Sheet1!B41 -> 3500
A44: =Sheet1!A43 -> DJ | B44: =Sheet1!B46 -> 1000
A45: =Sheet1!A48 -> STAFF | B45: =Sheet1!B53 -> 3925
A46: =Sheet1!A55 -> OPEN BAR | B46: =Sheet1!B67 -> 3500
A48: category | B48: cost
A49: =Sheet1!A11 -> Equipment rental | B49: =B41 -> 9275
A50: =Sheet1!A23 -> FOOD | B50: 27000
A51: =Sheet1!A35 -> Decoration | B51: =B43 -> 3500
A52: =Sheet1!A43 -> DJ | B52: =B44 -> 1000
A53: =Sheet1!A48 -> STAFF | B53: =B45 -> 3925
A54: =Sheet1!A55 -> OPEN BAR | B54: =B46 -> 3500
G57: Bibliography
G58: 1. Scotttoupincatering.com. (2018). Worcester Caterers: Weddings Catering, Corporate Catering and Private Catering specialists in Worcester, Rutland and Ware. [online] Available at: http://scotttoupincatering.com/#!corporate-catering [Accessed 19 May 2018].
G59: 1. Shutterstock.com. (2018). romantic meeting of two people. [online] Available at: https://www.shutterstock.com/image-vector/romantic-meeting-two-people-128522588 [Accessed 19 May 2018].

Sheet Sheet3
A2: category | B2: cost
A3: =Sheet1!A6 -> Budget | B3: =Sheet1!B6 -> 50000
A4: =Sheet1!A7 -> Estimated Expenses | B4: =Sheet1!B7 -> 48200
A5: =Sheet1!A8 -> Available Budget Left Option 3 | B5: =Sheet1!B8 -> 1800
