Workbook

Sheet Etudiant
B3: Nom
B4: Prénom
B5: Num. étudiant

Sheet Données
A1: Beignet | B1: 2.85 | C1: 150 | D1: Cannelle | E1: Matin | F1: Jeudi
A2: Beignet | B2: 6.22 | C2: 48 | D2: Cannelle | E2: Soir | F2: Mardi
A3: Beignet | B3: 6.87 | C3: 131 | D3: Cannelle | E3: Soir | F3: Lundi | I3: Tableau de référence
A4: Beignet | B4: 12.22 | C4: 188 | D4: Cannelle | E4: Matin | F4: Dimanche | I4: Type | J4: Stock (ajd.)
A5: Beignet | B5: 6.51 | C5: 189 | D5: Caramel | E5: Midi | F5: Lundi | I5: Tartelette | J5: 40
A6: Beignet | B6: 7.68 | C6: 28 | D6: Caramel | E6: Matin | F6: Dimanche | I6: Beignet | J6: 26
A7: Beignet | B7: 12.48 | C7: 30 | D7: Caramel | E7: Midi | F7: Mercredi | I7: Gâteau | J7: 56
A8: Beignet | B8: 12.84 | C8: 53 | D8: Caramel | E8: Soir | F8: Vendredi | I8: Macaron | J8: 99
A9: Beignet | B9: 13 | C9: 42 | D9: Caramel | E9: Soir | F9: Lundi | I9: Flan | J9: 13
A10: Beignet | B10: 14.46 | C10: 188 | D10: Caramel | E10: Soir | F10: Mardi | I10: Brioche | J10: 59
A11: Beignet | B11: 2.92 | C11: 150 | D11: Chocolat | E11: Soir | F11: Dimanche
A12: Beignet | B12: 5.1 | C12: 34 | D12: Chocolat | E12: Soir | F12: Dimanche
A13: Beignet | B13: 10.49 | C13: 22 | D13: Chocolat | E13: Soir | F13: Jeudi
A14: Beignet | B14: 12.65 | C14: 105 | D14: Chocolat | E14: Midi | F14: Jeudi
A15: Beignet | B15: 13.39 | C15: 48 | D15: Chocolat | E15: Matin | F15: Jeudi
A16: Beignet | B16: 1.4 | C16: 181 | D16: Fraise | E16: Midi | F16: Lundi
A17: Beignet | B17: 3.32 | C17: 186 | D17: Fraise | E17: Midi | F17: Lundi
A18: Beignet | B18: 9.03 | C18: 140 | D18: Fraise | E18: Après-midi | F18: Jeudi
A19: Beignet | B19: 12.46 | C19: 107 | D19: Fraise | E19: Soir | F19: Dimanche
A20: Beignet | B20: 3.12 | C20: 50 | D20: Framboise | E20: Soir | F20: Dimanche
A21: Beignet | B21: 4.88 | C21: 72 | D21: Framboise | E21: Soir | F21: Vendredi
A22: Beignet | B22: 8.1 | C22: 130 | D22: Framboise | E22: Après-midi | F22: Lundi
... A105: Tartelette | B105: 8.89 | C105: 55 | D105: Orange | E105: Soir | F105: Jeudi
A106: Type | B106: Prix de vente | C106: Poids (grammes) | D106: Saveur | E106: Fournée | F106: Jour de l'achat

Sheet Tableau de bord 
B1: Tableau de bord
B3: Type | C3: Recettes totales | D3: Total des ventes | E3: Prix moyen | F3: Stock
B4: Beignet | C4: =PRODUCT(D4,E4) -> 249.31 | D4: =COUNTIF(Données!A1:A105,B4) -> 28 | E4: =AVERAGEIF(Données!A1:A105,B4,Données!B1:B105) -> 8.9039286 | F4: =VLOOKUP(B4,Données!I3:J10,2,FALSE) -> 26
B5: Brioche | C5: =PRODUCT(D5,E5) -> 102.2 | D5: =COUNTIF(Données!A1:A105,B5) -> 14 | E5: =AVERAGEIF(Données!A1:A105,B5,Données!B1:B105) -> 7.3 | F5: =VLOOKUP(B5,Données!I3:J10,2,FALSE) -> 59
B6: Flan | C6: =PRODUCT(D6,E6) -> 110.92 | D6: =COUNTIF(Données!A1:A105,B6) -> 14 | E6: =AVERAGEIF(Données!A1:A105,B6,Données!B1:B105) -> 7.9228571 | F6: =VLOOKUP(B6,Données!I3:J10,2,FALSE) -> 13
B7: Gâteau | C7: =PRODUCT(D7,E7) -> 138.55 | D7: =COUNTIF(Données!A1:A105,B7) -> 17 | E7: =AVERAGEIF(Données!A1:A105,B7,Données!B1:B105) -> 8.15 | F7: =VLOOKUP(B7,Données!I3:J10,2,FALSE) -> 56
B8: Macaron | C8: =PRODUCT(D8,E8) -> 142.67 | D8: =COUNTIF(Données!A1:A105,B8) -> 21 | E8: =AVERAGEIF(Données!A1:A105,B8,Données!B1:B105) -> 6.7938095 | F8: =VLOOKUP(B8,Données!I3:J10,2,FALSE) -> 99
B9: Tartelette | C9: =PRODUCT(D9,E9) -> 73.53 | D9: =COUNTIF(Données!A1:A105,B9) -> 11 | E9: =AVERAGEIF(Données!A1:A105,B9,Données!B1:B105) -> 6.6845455 | F9: =VLOOKUP(B9,Données!I3:J10,2,FALSE) -> 40

Sheet Simulations 
A2: Simulation 1
A3: Prix de vente moyen | B3: 11.92
A4: Frais et coûts pour une unité | B4: 5.73
A5: Nombre de clients | B5: 161.55089
A6: Bénéfice net total | B6: =(B3-B4)*B5 -> 1000
A8: Simulation 2
A9: Prix de vente moyen | B9: 13.305758
A10: Frais et coûts pour une unité | B10: 5.73
A11: Nombre de clients | B11: 132
A12: Bénéfice net total | B12: =(B9-B10)*B11 -> 1000 | F12: Tableau de référence prix / ventes
F13: Prix moyen | G13: Ventes
A14: Simulation 3 | F14: Moins de 2 | G14: 123
A15: Prix moyen | B15: Profit total | F15: 4 | G15: 91
A16: 1 | B16: =IF(,F13:F19,G13:G19) -> 69 | F16: 8 | G16: 69
A17: 3 | B17: =IF(,F13:F19,G13:G19) -> 26 | F17: 10 | G17: 26
A18: 8 | B18: =IF(,F14:F19,G14:G19) -> 7 | F18: 15 | G18: 7
A19: 11 | B19: =IF(,F13:F19,G13:G19) -> 3 | F19: 20 | G19: 3
A20: 22
A22: Simulation 4
A23: Prix moyen | B23: Ventes | C23: Bénéfice
A24: 3 | B24: 103
A25: 6 | B25: 93
A26: 10 | B26: 61
A27: 14 | B27: 27
A28: 20 | B28: 7
A29: 26 | B29: 2 | F29: Graphiques sparkline
F30: Prix moyen | G30: Ventes | H30: Bénefice

Sheet RésultatsTCD
B3: Tableau étape 20
B4: Moyenne de Poids (grammes) | C4: Étiquettes de colonnes
B5: Étiquettes de lignes | C5: Après-midi | D5: Matin | E5: Midi | F5: Soir | G5: Total général
B6: Cannelle | C6: **,* | F6: **,* | G6: **,*
B7: Caramel | F7: **,* | G7: **,*
B8: Chocolat | D8: **,* | E8: **,* | F8: **,* | G8: **,*
B9: Fraise | F9: **,* | G9: **,*
B10: Framboise | F10: **,* | G10: **,*
B11: Orange | D11: **,* | E11: **,* | F11: **,* | G11: **,*
B12: Total général | C12: **,* | D12: **,* | E12: **,* | F12: **,* | G12: **,*

Sheet Correction
A2: Nom de Famille: | B2: =Etudiant!C3 -> 0
A3: Prénom : | B3: =Etudiant!C4 -> 0
A4: Numéro étudiant : | B4: =Etudiant!C5 -> 0
A8: Etape | C8: # de points possible | D8: Points obtenus
A10: 2 | B10: Données triées par genre > année (sortie) > prix | C10: 3
A11: 3 | C11: =SUM(C12:C14) -> 2 | D11: =SUM(D12:D14) -> 0
B12: Feuil1 renommée en Tableau de bord | C12: 0.5
B13: Tableau de bord (B1) en gras, taille 26 | C13: 1
B14: Colonnes B:F élargies à 15 de large (110px) | C14: 0.5
A15: 4 | C15: =SUM(C16,C17) -> 4.5 | D15: =SUM(D16,D17) -> 0.5
B16: Listes déroulantes dans B4:B9, comprenant les six types | C16: 4
B17: Triés par ordre alphabétique | C17: 0.5 | D17: =IF(AND('Tableau de bord '!B4="Beignet",'Tableau de bord '!B5="Brioche",'Tableau de bord '!B6="Flan",'Tableau de bord '!B7="Gâteau",'Tableau de bord '!B8="Macaron",'Tableau de bord '!B9="Tartelette"),0.5,0) -> 0.5
A18: 5 | B18: Calcul des unités vendues effectué avec NB.SI | C18: 3 | D18: =IF('Tableau de bord '!D4=28,0.5,0)+IF('Tableau de bord '!D5=14,0.5,0)+IF('Tableau de bord '!D6=14,0.5,0)+IF('Tableau de bord '!D7=17,0.5,0)+IF('Tableau de bord '!D8=21,0.5,0)+IF('Tableau de bord '!D9=11,0.5,0) -> 3
A19: 6 | B19: Calcul du prix moyen effectué avec MOYENNE.SI | C19: 3 | D19: =IF('Tableau de bord '!E4=8.90392857142857,0.5,0)+IF('Tableau de bord '!E5=7.3,0.5,0)+IF('Tableau de bord '!E6=7.92285714285714,0.5,0)+IF('Tableau de bord '!E7=8.15,0.5,0)+IF('Tableau de bord '!E8=6.79380952380952,0.5,0)+IF('Tableau de bord '!E9=6.68454545454545,0.5,0) -> 3
A20: 7 | B20: Stocks de disques obtenus avec RECHERCHEV | C20: 5 | D20: =IF('Tableau de bord '!F4=26,1,0)+IF('Tableau de bord '!F5=59,0.8,0)+IF('Tableau de bord '!F6=13,0.8,0)+IF('Tableau de bord '!F7=56,0.8,0)+IF('Tableau de bord '!F8=99,0.8,0)+IF('Tableau de bord '!F9=40,0.8,0) -> 5
A21: 8 | B21: Recettes totales (ventes * prix de vente moyen) | C21: 2 | D21: =IF('Tableau de bord '!C4=249.31,0.5,0)+IF('Tableau de bord '!C5=102.2,0.3,0)+IF('Tableau de bord '!C6=110.92,0.3,0)+IF('Tableau de bord '!C7=138.55,0.3,0)+IF('Tableau de bord '!C8=142.67,0.3,0)+IF('Tableau de bord '!C9=73.53,0.3,0) -> 2
A22: 9 | C22: =SUM(C23:C24) -> 1 | D22: =SUM(D23:D24) -> 0
B23: Bordure double (deux traits) à l'extérieur du tableau (B3:F9), bordure simple (un trait) à l'intérieur | C23: 0.5
B24: C4:C9 et E4:E9 en dollars, avec deux chiffres après la virgule | C24: 0.5
A25: 10 | C25: =SUM(C26:C29) -> 24 | D25: =SUM(D26:D29) -> 0
B26: Graphique secteur sur le nombre de pâtisseries vendus par type | C26: 7
B27: Graphique histogramme 3D sur le prix de vente moyen par type | C27: 7
B28: Graphique bulles sur les stocks (avec titres des axes) | C28: 7
B29: Titre et légende pour chaque graphique | C29: 3
A30: 11 | C30: =SUM(C31,C32) -> 7 | D30: =SUM(D31,D32) -> 0
B31: Widget Bubbles inséré | C31: 5
B32: Utilise les valeurs de B4:C8 | C32: 2
A33: 12 | B33: Feuil2 renommée en Simulations | C33: 0.5
A34: 13 | C34: =SUM(C35,C36) -> 12 | D34: =SUM(D35,D36) -> 12
B35: Valeur cible trouvée en modifiant le nombre de clients | C35: 6 | D35: =IF('Simulations '!B5=161.550888529887,6,0) -> 6
B36: Valeur cible trouvée en modifiant le prix de vente unitaire | C36: 6 | D36: =IF('Simulations '!B9=13.3057575757576,6,0) -> 6
A37: 14 | B37: Profit total obtenu avec des SI imbriqués (et une multiplication) | C37: 10 | D37: =IF('Simulations '!B16=65670,2,0)+IF('Simulations '!B17=49400,2,0)+IF('Simulations '!B18=66000,2,0)+IF('Simulations '!B19=74800,2,0)+IF('Simulations '!B20=39900,2,0) -> 0
A38: 15 | C38: =SUM(C39:C40) -> 2 | D38: =SUM(D39:D40) -> 0
B39: Profits totaux supérieurs ou égaux à 200 en vert (mise en forme conditionnelle) | C39: 1
B40: Profits totaux inférieurs à 200 en rouge (mise en forme conditionnelle) | C40: 1
A41: 16 | C41: =SUM(C42:C45) -> 8 | D41: =SUM(D42:D45) -> 0
B42: Bénéfice calculé correctement (C24:C29) | C42: 2 | D42: =IF('Simulations '!C24=-66,0.4,0)+IF('Simulations '!C25=183,0.4,0)+IF('Simulations '!C26=235,0.3,0)+IF('Simulations '!C27=3,0.3,0)+IF('Simulations '!C28=-235,0.3,0)+IF('Simulations '!C29=-323,0.3,0) -> 0
B43: Sparkline courbe en F31 basé sur le prix moyen (A24:A29) | C43: 2
B44: Sparkline histogramme en G31 basé sur le prix moyen (B24:B29) | C44: 2
B45: Sparkline positif/négatif en H31 basé sur le prix moyen (C24:C29) | C45: 2
...
