Workbook

Sheet Paiements STPGV
B2: paiement effectués par RBC | I2: paiement effectués par BMO | P2: paiement effectués par Scotia
B3: vers | I3: vers | P3: vers
A4: Paiement no. | B4: BMO | C4: Scotia | D4: TD | E4: CIBC | F4: Nationale | G4: Federal | I4: RCB | J4: Scotia | K4: TD | L4: CIBC | M4: Nationale | N4: Federal | P4: RBC | Q4: BMO | R4: TD | S4: CIBC | T4: Nationale | U4: Federal
A5: =1 -> 1 | B5: 35.663712 | C5: 34.271798 | D5: 33.908304 | E5: 38.353446 | F5: 37.475901 | G5: 3.0608194 | I5: 36.158843 | J5: 38.799012 | K5: 33.541506 | L5: 32.223658 | M5: 38.16734 | N5: 2.9395633 | P5: 32.458626 | Q5: 39.845013 | R5: 33.282042 | S5: 34.372259 | T5: 34.035034 | U5: 3.0363437
A6: =A5+1 -> 2 | B6: 26.195108 | C6: 31.377588 | D6: 29.553342 | E6: 28.012222 | F6: 27.91463 | G6: 2.8357533 | I6: 37.099024 | J6: 30.810235 | K6: 35.464375 | L6: 38.350384 | M6: 35.165264 | N6: 2.8849781 | P6: 29.71241 | Q6: 34.462971 | R6: 32.713107 | S6: 34.152457 | T6: 31.45391 | U6: 2.9967256
A7: =A6+1 -> 3 | B7: 37.636727 | C7: 40.065149 | D7: 37.816025 | E7: 31.187755 | F7: 35.132834 | G7: 3.0847413 | I7: 34.651009 | J7: 34.901922 | K7: 38.264628 | L7: 37.499954 | M7: 34.411435 | N7: 2.981961 | P7: 39.041395 | Q7: 33.011051 | R7: 32.903363 | S7: 35.87953 | T7: 35.074967 | U7: 2.979093
A8: =A7+1 -> 4 | B8: 27.079007 | C8: 35.55047 | D8: 25.424527 | E8: 35.401822 | F8: 42.808376 | G8: 2.6992909 | I8: 35.974286 | J8: 40.705154 | K8: 36.55781 | L8: 38.653747 | M8: 30.566126 | N8: 2.9950374 | P8: 33.799274 | Q8: 33.58262 | R8: 37.151356 | S8: 43.615139 | T8: 32.016499 | U8: 2.780907
A9: =A8+1 -> 5 | B9: 36.220967 | C9: 36.696074 | D9: 40.713294 | E9: 34.078365 | F9: 36.885195 | G9: 3.0346823 | I9: 35.617606 | J9: 35.002501 | K9: 32.930833 | L9: 34.746538 | M9: 40.38392 | N9: 2.9916157 | P9: 34.451112 | Q9: 31.202422 | R9: 35.651319 | S9: 36.243984 | T9: 37.454152 | U9: 3.0998833
A10: =A9+1 -> 6 | B10: 44.541327 | C10: 36.554303 | D10: 28.774502 | E10: 36.521099 | F10: 33.493769 | G10: 3.1253012 | I10: 38.330114 | J10: 32.458462 | K10: 34.668495 | L10: 40.48388 | M10: 32.30595 | N10: 3.12476 | P10: 29.039214 | Q10: 38.453744 | R10: 40.863946 | S10: 34.204411 | T10: 33.733626 | U10: 3.0342081
A11: =A10+1 -> 7 | B11: 36.525055 | C11: 37.721134 | D11: 41.574629 | E11: 42.563745 | F11: 27.858748 | G11: 3.1302294 | I11: 36.509645 | J11: 36.908157 | K11: 33.846758 | L11: 36.678774 | M11: 31.048344 | N11: 3.2152694 | P11: 34.935011 | Q11: 34.555911 | R11: 36.979962 | S11: 34.813954 | T11: 36.930892 | U11: 3.0919323
A12: =A11+1 -> 8 | B12: 27.198821 | C12: 39.00221 | D12: 36.346343 | E12: 40.31997 | F12: 31.325239 | G12: 2.9106403 | I12: 30.336322 | J12: 34.844935 | K12: 34.41543 | L12: 31.103171 | M12: 33.559058 | N12: 3.0177836 | P12: 42.988692 | Q12: 32.671536 | R12: 29.375984 | S12: 31.09684 | T12: 35.44064 | U12: 2.9364094
A13: =A12+1 -> 9 | B13: 38.884234 | C13: 38.835735 | D13: 37.627621 | E13: 31.327376 | F13: 36.108977 | G13: 3.0965154 | I13: 37.098866 | J13: 34.294745 | K13: 38.505291 | L13: 34.524318 | M13: 36.078996 | N13: 2.9236815 | P13: 29.693402 | Q13: 38.430241 | R13: 38.762997 | S13: 33.053865 | T13: 35.523022 | U13: 3.1567017
A14: =A13+1 -> 10 | B14: 32.061117 | C14: 36.373459 | D14: 35.960697 | E14: 36.107451 | F14: 33.884321 | G14: 2.8233283 | I14: 34.281472 | J14: 40.00557 | K14: 35.256496 | L14: 40.216456 | M14: 33.694371 | N14: 3.0965949 | P14: 32.412805 | Q14: 30.122304 | R14: 28.176409 | S14: 34.41114 | T14: 33.472222 | U14: 3.0824823
A15: =A14+1 -> 11 | B15: 31.085729 | C15: 29.496529 | D15: 35.846777 | E15: 41.576924 | F15: 29.07444 | G15: 2.9675234 | I15: 33.468824 | J15: 37.918523 | K15: 33.568798 | L15: 35.765971 | M15: 39.674067 | N15: 3.2366672 | P15: 35.330354 | Q15: 33.886956 | R15: 33.063703 | S15: 36.321665 | T15: 37.900682 | U15: 3.1129117 | X15: =SUM(G5:G24) -> 59.634842
A16: =A15+1 -> 12 | B16: 38.83809 | C16: 38.450717 | D16: 40.275913 | E16: 38.132606 | F16: 32.927184 | G16: 3.1233628 | I16: 34.048476 | J16: 32.762367 | K16: 37.006872 | L16: 34.603041 | M16: 39.796834 | N16: 2.9010744 | P16: 30.514944 | Q16: 35.084148 | R16: 33.513254 | S16: 37.059299 | T16: 27.133175 | U16: 2.9305154
A17: =A16+1 -> 13 | B17: 40.977722 | C17: 29.85376 | D17: 34.426387 | E17: 39.483049 | F17: 27.934003 | G17: 2.9631588 | I17: 36.293923 | J17: 27.62291 | K17: 36.882625 | L17: 36.792794 | M17: 33.492007 | N17: 2.8229865 | P17: 37.087797 | Q17: 36.690216 | R17: 36.132733 | S17: 37.601033 | T17: 30.046378 | U17: 2.8566806
A18: =A17+1 -> 14 | B18: 31.94432 | C18: 42.835855 | D18: 33.601032 | E18: 29.177534 | F18: 36.003311 | G18: 3.111681 | I18: 32.159129 | J18: 31.589881 | K18: 34.01646 | L18: 35.302368 | M18: 30.764425 | N18: 2.9531931 | P18: 30.660753 | Q18: 30.838394 | R18: 33.039075 | S18: 35.091751 | T18: 37.830429 | U18: 3.1295287
A19: =A18+1 -> 15 | B19: 41.229396 | C19: 36.522581 | D19: 31.721933 | E19: 28.229434 | F19: 30.332068 | G19: 2.9101611 | I19: 34.760489 | J19: 31.124954 | K19: 30.249799 | L19: 34.305091 | M19: 31.381217 | N19: 2.9320137 | P19: 33.486719 | Q19: 37.514188 | R19: 35.42482 | S19: 31.841572 | T19: 32.004201 | U19: 3.0205409
A20: =A19+1 -> 16 | B20: 27.079833 | C20: 27.239167 | D20: 38.283071 | E20: 36.694013 | F20: 34.613686 | G20: 3.1667696 | I20: 31.227716 | J20: 32.85124 | K20: 36.338688 | L20: 31.224317 | M20: 30.791572 | N20: 2.96895 | P20: 36.534889 | Q20: 33.783098 | R20: 37.826201 | S20: 34.128193 | T20: 30.095573 | U20: 3.0972588
A21: =A20+1 -> 17 | B21: 40.573106 | C21: 35.199589 | D21: 31.286426 | E21: 39.952112 | F21: 39.813424 | G21: 2.9352383 | I21: 41.973297 | J21: 32.396832 | K21: 34.04355 | L21: 33.998044 | M21: 35.021523 | N21: 3.0710752 | P21: 34.373191 | Q21: 36.435233 | R21: 36.883669 | S21: 35.449398 | T21: 37.109591 | U21: 3.1200384
A22: =A21+1 -> 18 | B22: 35.274331 | C22: 32.189119 | D22: 30.551659 | E22: 41.765517 | F22: 34.250119 | G22: 2.8608779 | I22: 33.179637 | J22: 35.594695 | K22: 34.161766 | L22: 31.191606 | M22: 38.702516 | N22: 2.9847651 | P22: 35.329741 | Q22: 29.140496 | R22: 35.759308 | S22: 35.506858 | T22: 32.956655 | U22: 2.9292354
A23: =A22+1 -> 19 | B23: 29.018728 | C23: 32.863177 | D23: 35.47394 | E23: 33.311608 | F23: 41.676847 | G23: 2.9352538 | I23: 33.32985 | J23: 35.284073 | K23: 35.360412 | L23: 35.052545 | M23: 35.937806 | N23: 2.9430051 | P23: 30.104795 | Q23: 33.492765 | R23: 36.169723 | S23: 34.09267 | T23: 33.497135 | U23: 2.9342274
A24: =A23+1 -> 20 | B24: 39.595833 | C24: 45.11409 | D24: 34.135405 | E24: 30.257728 | F24: 35.540883 | G24: 2.8595132 | I24: 37.320296 | J24: 38.633534 | K24: 34.12621 | L24: 34.989781 | M24: 32.125118 | N24: 3.2073474 | P24: 34.556192 | Q24: 32.406731 | R24: 30.91032 | S24: 31.257759 | T24: 27.523741 | U24: 2.8712446
B26: paiement effectués par TD | I26: paiement effectués par CIBC | P26: paiement effectués par Nationale
B27: vers | I27: vers | P27: vers
B28: RBC | C28: BMO | D28: Scotia | E28: CIBC | F28: Nationale | G28: Federal | I28: RBC | J28: BMO | K28: Scotia | L28: TD | M28: Nationale | N28: Federal | P28: RBC | Q28: BMO | R28: Scotia | S28: TD | T28: CIBC | U28: Federal
A29: =1 -> 1 | B29: 31.306988 | C29: 33.284505 | D29: 36.671004 | E29: 40.605199 | F29: 34.317228 | G29: 2.9144487 | I29: 37.101947 | J29: 35.569871 | K29: 32.278097 | L29: 33.57182 | M29: 33.033388 | N29: 3.0808632 | P29: 26.636265 | Q29: 37.444516 | R29: 36.109041 | S29: 37.27075 | T29: 33.380736 | U29: 3.0008652
A30: =A29+1 -> 2 | B30: 33.836326 | C30: 34.00429 | D30: 28.967508 | E30: 34.381698 | F30: 35.427123 | G30: 3.0404022 | I30: 37.953153 | J30: 32.735744 | K30: 27.85503 | L30: 38.367262 | M30: 37.152526 | N30: 3.0425872 | P30: 30.257787 | Q30: 35.164704 | R30: 29.713695 | S30: 37.594441 | T30: 37.639139 | U30: 2.7312208
A31: =A30+1 -> 3 | B31: 33.790219 | C31: 37.662462 | D31: 37.08875 | E31: 32.05963 | F31: 29.691538 | G31: 3.1455203 | I31: 39.666708 | J31: 32.493682 | K31: 28.262391 | L31: 33.991591 | M31: 36.329447 | N31: 2.901516 | P31: 29.666006 | Q31: 35.756023 | R31: 33.715553 | S31: 31.481197 | T31: 31.485711 | U31: 3.1329379
A32: =A31+1 -> 4 | B32: 30.477931 | C32: 33.66746 | D32: 33.020812 | E32: 33.773135 | F32: 37.073283 | G32: 3.1570805 | I32: 38.236464 | J32: 30.12753 | K32: 30.84952 | L32: 33.077292 | M32: 40.936697 | N32: 2.9724965 | P32: 29.28287 | Q32: 35.071047 | R32: 35.552744 | S32: 34.217624 | T32: 42.239678 | U32: 3.0780119
A33: =A32+1 -> 5 | B33: 37.11442 | C33: 36.761089 | D33: 33.760536 | E33: 32.620521 | F33: 35.425777 | G33: 3.0814117 | I33: 36.069043 | J33: 37.284241 | K33: 39.270267 | L33: 37.74511 | M33: 36.66795 | N33: 3.0565991 | P33: 39.171789 | Q33: 27.271174 | R33: 34.807926 | S33: 38.621199 | T33: 32.654199 | U33: 2.9395762
A34: =A33+1 -> 6 | B34: 32.536158 | C34: 42.207885 | D34: 36.675513 | E34: 35.896505 | F34: 34.544561 | G34: 2.9632402 | I34: 29.151171 | J34: 31.606793 | K34: 31.89876 | L34: 33.780624 | M34: 37.432865 | N34: 3.0869298 | P34: 38.801279 | Q34: 38.774887 | R34: 38.907161 | S34: 34.937947 | T34: 33.326624 | U34: 2.9116032
A35: =A34+1 -> 7 | B35: 37.556402 | C35: 32.64298 | D35: 39.829329 | E35: 29.427334 | F35: 35.789915 | G35: 2.9935161 | I35: 35.642477 | J35: 33.934969 | K35: 37.198303 | L35: 33.493744 | M35: 35.11761 | N35: 3.2983018 | P35: 33.709491 | Q35: 32.155505 | R35: 36.663768 | S35: 34.502445 | T35: 35.60733 | U35: 3.0377323
A36: =A35+1 -> 8 | B36: 33.22369 | C36: 30.771378 | D36: 38.590377 | E36: 32.061802 | F36: 37.725655 | G36: 2.9958143 | I36: 36.896343 | J36: 36.386343 | K36: 39.271171 | L36: 34.565369 | M36: 31.57568 | N36: 3.1168184 | P36: 37.387326 | Q36: 31.247003 | R36: 36.49079 | S36: 33.537908 | T36: 34.263081 | U36: 2.8946806
A37: =A36+1 -> 9 | B37: 34.416604 | C37: 31.897587 | D37: 32.545326 | E37: 30.677711 | F37: 33.643623 | G37: 2.9332978 | I37: 40.439281 | J37: 31.532016 | K37: 29.086313 | L37: 30.832266 | M37: 29.40972 | N37: 3.0427128 | P37: 34.403676 | Q37: 37.892902 | R37: 35.650418 | S37: 33.074401 | T37: 37.459623 | U37: 3.1096901
A38: =A37+1 -> 10 | B38: 34.721245 | C38: 33.801242 | D38: 36.558273 | E38: 37.97881 | F38: 35.328558 | G38: 3.0581191 | I38: 30.847177 | J38: 29.791282 | K38: 30.622369 | L38: 32.955024 | M38: 35.949818 | N38: 2.9348846 | P38: 32.53316 | Q38: 33.305736 | R38: 35.040188 | S38: 35.549174 | T38: 33.630135 | U38: 2.8971802
A39: =A38+1 -> 11 | B39: 34.240655 | C39: 33.039666 | D39: 42.1542 | E39: 30.333625 | F39: 36.357658 | G39: 2.9254208 | I39: 32.39602 | J39: 39.804849 | K39: 33.018647 | L39: 37.655509 | M39: 40.505309 | N39: 3.0251853 | P39: 33.965107 | Q39: 30.400682 | R39: 40.544883 | S39: 35.472139 | T39: 38.757976 | U39: 3.0030599
A40: =A39+1 -> 12 | B40: 34.04707 | C40: 34.73623 | D40: 34.874806 | E40: 35.493036 | F40: 35.513363 | G40: 2.9178115 | I40: 33.585519 | J40: 34.019549 | K40: 38.191887 | L40: 34.527916 | M40: 32.975837 | N40: 3.0636128 | P40: 35.190157 | Q40: 38.145172 | R40: 33.828034 | S40: 29.69489 | T40: 31.883111 | U40: 2.9184593
A41: =A40+1 -> 13 | B41: 33.777713 | C41: 30.903119 | D41: 36.289618 | E41: 36.792178 | F41: 36.222241 | G41: 3.1477358 | I41: 34.108393 | J41: 36.274553 | K41: 37.010901 | L41: 38.404578 | M41: 33.895992 | N41: 2.9280198 | P41: 37.214377 | Q41: 34.598536 | R41: 34.475012 | S41: 35.821413 | T41: 32.530364 | U41: 2.8038221
... A48: =A47+1 -> 20 | B48: 30.47172 | C48: 34.981846 | D48: 39.204902 | E48: 37.477832 | F48: 36.664552 | G48: 2.9888445 | I48: 38.305046 | J48: 30.06222 | K48: 36.34701 | L48: 38.031049 | M48: 35.415088 | N48: 3.0269628 | P48: 31.540531 | Q48: 27.281821 | R48: 31.577062 | S48: 30.684659 | T48: 32.338089 | U48: 3.0885265
...

Sheet Tableau
B1: dû a | C1: RBC | D1: BMO | E1: Scotia | F1: TD | G1: CIBC | H1: Nationale | I1: Federal | J1: ∑ due par (-) | K1: ∑ reçu par (+) | L1: Encaisses
A2: dû par | L2: Règlement
A3: RBC | D3: =SUM('Paiements STPGV'!B5:B24) -> 697.62316 | E3: =SUM('Paiements STPGV'!C5:C24) -> 716.2125 | F3: =SUM('Paiements STPGV'!D5:D24) -> 693.30183 | G3: =SUM('Paiements STPGV'!E5:E24) -> 712.45378 | H3: =SUM('Paiements STPGV'!F5:F24) -> 685.05396 | J3: =SUM(D3:H3) -> 3504.6452 | K3: =SUM(C3:C8) -> 3458.9064 | L3: =J3-K3 -> 45.738869 | M3: Cr
A4: BMO | C4: =SUM('Paiements STPGV'!I5:I24) -> 703.81882 | E4: =SUM('Paiements STPGV'!J5:J24) -> 694.5097 | F4: =SUM('Paiements STPGV'!K5:K24) -> 699.2068 | G4: =SUM('Paiements STPGV'!L5:L24) -> 707.70644 | H4: =SUM('Paiements STPGV'!M5:M24) -> 693.06789 | J4: =SUM(C4:H4) -> 3498.3097 | K4: =SUM(D3:D8) -> 3429.342 | L4: =J4-K4 -> 68.967676 | M4: Cr
A5: Scotia | C5: =SUM('Paiements STPGV'!P5:P24) -> 676.51132 | D5: =SUM('Paiements STPGV'!Q5:Q24) -> 685.61004 | F5: =SUM('Paiements STPGV'!R5:R24) -> 694.58329 | G5: =SUM('Paiements STPGV'!S5:S24) -> 700.19378 | H5: =SUM('Paiements STPGV'!T5:T24) -> 671.23252 | J5: =SUM(C5:H5) -> 3428.1309 | K5: =SUM(E3:E8) -> 3497.2997 | L5: =J5-K5 -> -69.168712 | M5: Dt
A6: TD | C6: =SUM('Paiements STPGV'!B29:B48) -> 676.97116 | D6: =SUM('Paiements STPGV'!C29:C48) -> 688.91946 | E6: =SUM('Paiements STPGV'!D29:D48) -> 708.57247 | G6: =SUM('Paiements STPGV'!E29:E48) -> 690.32955 | H6: =SUM('Paiements STPGV'!F29:F48) -> 701.63704 | J6: =SUM(C6:H6) -> 3466.4297 | K6: =SUM(F3:F8) -> 3477.109 | L6: =J6-K6 -> -10.679359 | M6: Dt
A7: CIBC | C7: =SUM('Paiements STPGV'!I29:I48) -> 722.50222 | D7: =SUM('Paiements STPGV'!J29:J48) -> 679.04334 | E7: =SUM('Paiements STPGV'!K29:K48) -> 673.26896 | F7: =SUM('Paiements STPGV'!L29:L48) -> 702.72888 | H7: =SUM('Paiements STPGV'!M29:M48) -> 711.38092 | J7: =SUM(C7:H7) -> 3488.9243 | K7: =SUM(G3:G8) -> 3512.2394 | L7: =J7-K7 -> -23.315144 | M7: Dt
A8: Nationale | C8: =SUM('Paiements STPGV'!P29:P48) -> 679.10284 | D8: =SUM('Paiements STPGV'!Q29:Q48) -> 678.14598 | E8: =SUM('Paiements STPGV'!R29:R48) -> 704.73602 | F8: =SUM('Paiements STPGV'!S29:S48) -> 687.28824 | G8: =SUM('Paiements STPGV'!T29:T48) -> 701.55591 | J8: =SUM(C8:H8) -> 3450.829 | K8: =SUM(H3:H7) -> 3462.3723 | L8: =J8-K8 -> -11.543331 | M8: Dt
A9: Federal
A10: ∑somme due | C10: =SUM(C3:C8) -> 3458.9064 | D10: =SUM(D3:D8) -> 3429.342 | E10: =SUM(E3:E8) -> 3497.2997 | F10: =SUM(F3:F8) -> 3477.109 | G10: =SUM(G3:G8) -> 3512.2394 | H10: =SUM(H3:H8) -> 3462.3723 | J10: =SUM(J3:J8) -> 20837.269 | K10: =SUM(K3:K8) -> 20837.269 | L10: =J10-K10 -> 0
B12: dû a | C12: RBC | D12: BMO | E12: Scotia | F12: TD | G12: CIBC | H12: Nationale | I12: Federal | J12: ∑ due par (-) | K12: ∑ reçu par (+) | L12: Encaisses
A13: dû par | L13: Règlement
A14: RBC | D14: =D3 -> 697.62316 | E14: =E3 -> 716.2125 | F14: =F3 -> 693.30183 | G14: =G3 -> 712.45378 | H14: =H3 -> 685.05396 | I14: =SUM('Paiements STPGV'!G5:G24) -> 59.634842 | J14: =SUM(D14:I14) -> 3564.2801 | K14: =SUM(C14:C20) -> 3518.5869 | L14: =J14-K14 -> 45.693164 | M14: Secteur privé | O14: Cr
A15: BMO | C15: =C4 -> 703.81882 | E15: =E4 -> 694.5097 | F15: =F4 -> 699.2068 | G15: =G4 -> 707.70644 | H15: =H4 -> 693.06789 | I15: =SUM('Paiements STPGV'!N5:N24) -> 60.192323 | J15: =SUM(C15:I15) -> 3558.502 | K15: =SUM(D14:D20) -> 3489.5113 | L15: =J15-K15 -> 68.990716 | O15: Cr
A16: Scotia | C16: =C5 -> 676.51132 | D16: =D5 -> 685.61004 | F16: =F5 -> 694.58329 | G16: =G5 -> 700.19378 | H16: =H5 -> 671.23252 | I16: =SUM('Paiements STPGV'!U5:U24) -> 60.196868 | J16: =SUM(C16:I16) -> 3488.3278 | K16: =SUM(E14:E20) -> 3555.7862 | L16: =J16-K16 -> -67.45843 | O16: Dt
A17: TD | C17: =C6 -> 676.97116 | D17: =D6 -> 688.91946 | E17: =E6 -> 708.57247 | G17: =G6 -> 690.32955 | H17: =H6 -> 701.63704 | I17: =SUM('Paiements STPGV'!G29:G48) -> 60.087984 | J17: =SUM(C17:I17) -> 3526.5177 | K17: =SUM(F14:F20) -> 3535.1783 | L17: =J17-K17 -> -8.6606617 | O17: Dt
A18: CIBC | C18: =C7 -> 722.50222 | D18: =D7 -> 679.04334 | E18: =E7 -> 673.26896 | F18: =F7 -> 702.72888 | H18: =H7 -> 711.38092 | I18: =SUM('Paiements STPGV'!N29:N48) -> 60.283793 | J18: =SUM(C18:I18) -> 3549.2081 | K18: =SUM(G14:G20) -> 3571.7303 | L18: =J18-K18 -> -22.522159 | O18: Dt
A19: Nationale | C19: =C8 -> 679.10284 | D19: =D8 -> 678.14598 | E19: =E8 -> 704.73602 | F19: =F8 -> 687.28824 | G19: =G8 -> 701.55591 | I19: =SUM('Paiements STPGV'!U29:U48) -> 59.230604 | J19: =SUM(C19:I19) -> 3510.0596 | K19: =SUM(H14:H20) -> 3522.8134 | L19: =J19-K19 -> -12.75377 | O19: Dt
A20: Federal | C20: 59.680547 | D20: 60.169283 | E20: 58.486587 | F20: 58.069287 | G20: 59.490809 | H20: 60.441043 | J20: =SUM(C20:I20) -> 356.33756 | K20: =SUM(I14:I20) -> 359.62641 | L20: =J20-K20 -> -3.2888583 | M20: Secteur Public | O20: Dt
A21: ∑somme due | C21: =SUM(C14:C20) -> 3518.5869 | D21: =SUM(D14:D20) -> 3489.5113 | E21: =SUM(E14:E20) -> 3555.7862 | F21: =SUM(F14:F20) -> 3535.1783 | G21: =SUM(G14:G20) -> 3571.7303 | H21: =SUM(H14:H20) -> 3522.8134 | I21: =SUM(I14:I20) -> 359.62641 | J21: =SUM(J14:J20) -> 21553.233 | K21: =SUM(K14:K20) -> 21553.233 | L21: =J21-K21 -> 0
A25: B) | B25: Les membres du STPGV qui finissent la journée avec un solde débiteur sont : Scotia, TD, CIBC et Nationale.
B26: Les membres du STPGV qui finissent la journée avec un solde créditeur sont : RBC et BMO.
B27: Les membres qui seront empreunteurs: Scotia, TD, CIBC et Nationale
A28: C) | B28: Les membres qui seront preteurs sont: RBC et BMO
A30: D) | B30: Car que tous les banques Canadian sont liees par le STPGV, on peut considere le systeme bancaire Cdn comme un grande bilan, et alors, actifs doivent egales passifs, alors s'il y a un negative compte, ca veut dire qu'un autre banque Cdn a un compte positif
A35: E) | B35: Une autre facon de traité les transactions pour que leur encaisse soient a 0$ est la systeme automatisé de compensation et de règlement.
A37: F) | B37: Avec le systeme de STPGV, chaque insitution financière sont au courant de la situation de les autres banques et de quoi qu'ils ont besoins pour etre a 0.
