Workbook

Sheet Mean 
A1: Age Distribution at Marriage: UK | J1: Shornel Albert
B2: Males | E2: Females
B3: 1991 | C3: 1996 | D3: 2001 | E3: 1991 | F3: 1996 | G3: 2001
A4: 18-20 | B4: 13271 | C4: 5497 | D4: 4625 | E4: 38305 | F4: 18485 | G4: 13874
A5: 21-24 | B5: 79877 | C5: 42488 | D5: 25840 | E5: 105505 | F5: 66191 | G5: 45687
A6: 25-29 | B6: 115637 | C6: 101647 | D6: 78687 | E6: 99851 | F6: 99651 | G6: 85647
A7: 30-34 | B7: 56970 | C7: 69867 | D7: 70657 | E7: 43617 | F7: 57752 | G7: 59859
A8: 35-44 | B8: 48147 | C8: 56513 | D8: 65242 | E8: 37582 | F8: 45969 | G8: 52209
A9: 45-54 | B9: 20915 | C9: 26252 | D9: 26122 | E9: 16473 | F9: 21025 | G9: 20459
A10: 55-80 | B10: 14922 | C10: 15250 | D10: 14956 | E10: 8406 | F10: 8441 | G10: 8394
A12: Total | B12: =SUM(B4:B10) -> 349739 | C12: =SUM(C4:C10) -> 317514 | D12: =SUM(D4:D10) -> 286129 | E12: =SUM(E4:E10) -> 349739 | F12: =SUM(F4:F10) -> 317514 | G12: =SUM(G4:G10) -> 286129
A15: x | B15: f.x | C15: f.x | D15: f.x | E15: f.x | F15: f.x | G15: f.x
A16: 19 | B16: =$A$16*B4 -> 252149 | C16: =$A$16*C4 -> 104443 | D16: =$A$16*D4 -> 87875 | E16: =$A$16*E4 -> 727795 | F16: =$A$16*F4 -> 351215 | G16: =$A$16*G4 -> 263606
A17: 22.5 | B17: =$A$17*B5 -> 1797232.5 | C17: =$A$17*C5 -> 955980 | D17: =$A$17*D5 -> 581400 | E17: =$A$17*E5 -> 2373862.5 | F17: =$A$17*F5 -> 1489297.5 | G17: =$A$17*G5 -> 1027957.5
A18: 27 | B18: =$A$18*B6 -> 3122199 | C18: =$A$18*C6 -> 2744469 | D18: =$A$18*D6 -> 2124549 | E18: =$A$18*E6 -> 2695977 | F18: =$A$18*F6 -> 2690577 | G18: =$A$18*G6 -> 2312469
A19: 32 | B19: =$A$19*B7 -> 1823040 | C19: =$A$19*C7 -> 2235744 | D19: =$A$19*D7 -> 2261024 | E19: =$A$19*E7 -> 1395744 | F19: =$A$19*F7 -> 1848064 | G19: =$A$19*G7 -> 1915488
A20: 39.5 | B20: =$A$20*B8 -> 1901806.5 | C20: =$A$20*C8 -> 2232263.5 | D20: =$A$20*D8 -> 2577059 | E20: =$A$20*E8 -> 1484489 | F20: =$A$20*F8 -> 1815775.5 | G20: =$A$20*G8 -> 2062255.5
A21: 49.5 | B21: =$A$21*B9 -> 1035292.5 | C21: =$A$21*C9 -> 1299474 | D21: =$A$21*D9 -> 1293039 | E21: =$A$21*E9 -> 815413.5 | F21: =$A$21*F9 -> 1040737.5 | G21: =$A$21*G9 -> 1012720.5
A22: 67.5 | B22: =$A$22*B10 -> 1007235 | C22: =$A$22*C10 -> 1029375 | D22: =$A$22*D10 -> 1009530 | E22: =$A$22*E10 -> 567405 | F22: =$A$22*F10 -> 569767.5 | G22: =$A$22*G10 -> 566595
B24: =SUM(B16:B22) -> 10938954 | C24: =SUM(C16:C22) -> 10601748 | D24: =SUM(D16:D22) -> 9934476 | E24: =SUM(E16:E22) -> 10060686 | F24: =SUM(F16:F22) -> 9805434 | G24: =SUM(G16:G22) -> 9161091.5
A26: Mean (Ʃfx/n): | B26: =B24/B12 -> 31.27748 | C26: =C24/C12 -> 33.389862 | D26: =D24/D12 -> 34.72027 | E26: =E24/E12 -> 28.766269 | F26: =F24/F12 -> 30.881895 | G26: =G24/G12 -> 32.017347

Sheet Median
A1: Age Distribution at Marriage: UK
B2: Males | E2: Females | I2: Male 1991 | K2: 1996 | M2: 2001 | O2: Female 1991 | Q2: 1996 | S2: 2001
B3: 1991 | C3: 1996 | D3: 2001 | E3: 1991 | F3: 1996 | G3: 2001 | I3: Frequency (f) | J3: Cumulative Frequency (F) | K3: Frequency (f) | L3: Cumulative Frequency (F) | M3: Frequency (f) | N3: Cumulative Frequency (F) | O3: Frequency (f) | P3: Cumulative Frequency (F) | Q3: Frequency (f) | R3: Cumulative Frequency (F) | S3: Frequency (f) | T3: Cumulative Frequency (F)
A4: 18- 20 | B4: 13271 | C4: 5497 | D4: 4625 | E4: 38305 | F4: 18485 | G4: 13874 | I4: 13271 | J4: 13271 | K4: 5497 | L4: =K4 -> 5497 | M4: 4625 | N4: =M4 -> 4625 | O4: 38305 | P4: =O4 -> 38305 | Q4: 18485 | R4: =Q4 -> 18485 | S4: 13874 | T4: =S4 -> 13874
A5: 21-24 | B5: 79877 | C5: 42488 | D5: 25840 | E5: 105505 | F5: 66191 | G5: 45687 | I5: 79877 | J5: =J4+I5 -> 93148 | K5: 42488 | L5: =L4+K5 -> 47985 | M5: 25840 | N5: =N4+M5 -> 30465 | O5: 105505 | P5: =P4+O5 -> 143810 | Q5: 66191 | R5: =R4+Q5 -> 84676 | S5: 45687 | T5: =T4+S5 -> 59561
A6: 25-29 | B6: 115637 | C6: 101647 | D6: 78687 | E6: 99851 | F6: 99651 | G6: 85647 | I6: 115637 | J6: =J5+I6 -> 208785 | K6: 101647 | L6: =L5+K6 -> 149632 | M6: 78687 | N6: =N5+M6 -> 109152 | O6: 99851 | P6: =P5+O6 -> 243661 | Q6: 99651 | R6: =R5+Q6 -> 184327 | S6: 85647 | T6: =T5+S6 -> 145208
A7: 30-34 | B7: 56970 | C7: 69867 | D7: 70657 | E7: 43617 | F7: 57752 | G7: 59859 | I7: 56970 | J7: =J6+I7 -> 265755 | K7: 69867 | L7: =L6+K7 -> 219499 | M7: 70657 | N7: =N6+M7 -> 179809 | O7: 43617 | P7: =P6+O7 -> 287278 | Q7: 57752 | R7: =R6+Q7 -> 242079 | S7: 59859 | T7: =T6+S7 -> 205067
A8: 35-44 | B8: 48147 | C8: 56513 | D8: 65242 | E8: 37582 | F8: 45969 | G8: 52209 | I8: 48147 | J8: =J7+I8 -> 313902 | K8: 56513 | L8: =L7+K8 -> 276012 | M8: 65242 | N8: =N7+M8 -> 245051 | O8: 37582 | P8: =P7+O8 -> 324860 | Q8: 45969 | R8: =R7+Q8 -> 288048 | S8: 52209 | T8: =T7+S8 -> 257276
A9: 45-54 | B9: 20915 | C9: 26252 | D9: 26122 | E9: 16473 | F9: 21025 | G9: 20459 | I9: 20915 | J9: =J8+I9 -> 334817 | K9: 26252 | L9: =L8+K9 -> 302264 | M9: 26122 | N9: =N8+M9 -> 271173 | O9: 16473 | P9: =P8+O9 -> 341333 | Q9: 21025 | R9: =R8+Q9 -> 309073 | S9: 20459 | T9: =T8+S9 -> 277735
A10: 55 -80 | B10: 14922 | C10: 15250 | D10: 14956 | E10: 8406 | F10: 8441 | G10: 8394 | I10: 14922 | J10: =J9+I10 -> 349739 | K10: 15250 | L10: =L9+K10 -> 317514 | M10: 14956 | N10: =N9+M10 -> 286129 | O10: 8406 | P10: =P9+O10 -> 349739 | Q10: 8441 | R10: =R9+Q10 -> 317514 | S10: 8394 | T10: =T9+S10 -> 286129
A12: Total (n): | B12: =SUM(B4:B10) -> 349739 | C12: =SUM(C4:C10) -> 317514 | D12: =SUM(D4:D10) -> 286129 | E12: =SUM(E4:E10) -> 349739 | F12: =SUM(F4:F10) -> 317514 | G12: =SUM(G4:G10) -> 286129 | H12: Median: (Lm+(n/2 - F)*i)/fm | I12: =B15+((B16-J5)/I6)*5 -> 28.033536 | K12: =C15+((C16-L6)/K7)*5 -> 30.153026 | M12: =D15+((D16-N6)/M7)*5 -> 31.899798 | O12: =E15+((E16-P5)/O6)*5 -> 26.055292 | Q12: =F15+((F16-R5)/Q6)*5 -> 28.217022 | S12: =G15+((G16-T5)/S6)*5 -> 29.374864
A14: Median Class: | B14: 25-29 | C14: 30-34 | D14: 30-34 | E14: 25-29 | F14: 25-29 | G14: 25-29
A15: Lm: | B15: =(24+25)/2 -> 24.5 | C15: =(29+30)/2 -> 29.5 | D15: =(29+30)/2 -> 29.5 | E15: =(24+25)/2 -> 24.5 | F15: =(24+25)/2 -> 24.5 | G15: =(24+25)/2 -> 24.5
A16: n/2: | B16: =(B12)/2 -> 174869.5 | C16: =(C12)/2 -> 158757 | D16: =(D12)/2 -> 143064.5 | E16: =(E12)/2 -> 174869.5 | F16: =(F12)/2 -> 158757 | G16: =(G12)/2 -> 143064.5

Sheet Lower & Upper Quartile & IQR
A1: Age Distribution at Marriage: UK
B2: Males | E2: Females | I2: Male 1991 | K2: 1996 | M2: 2001 | O2: Female 1991 | Q2: 1996 | S2: 2001
B3: 1991 | C3: 1996 | D3: 2001 | E3: 1991 | F3: 1996 | G3: 2001 | I3: Frequency (f) | J3: Cumulative Frequency (F) | K3: Frequency (f) | L3: Cumulative Frequency (F) | M3: Frequency (f) | N3: Cumulative Frequency (F) | O3: Frequency (f) | P3: Cumulative Frequency (F) | Q3: Frequency (f) | R3: Cumulative Frequency (F) | S3: Frequency (f) | T3: Cumulative Frequency (F)
A4: 18- 20 | B4: 13271 | C4: 5497 | D4: 4625 | E4: 38305 | F4: 18485 | G4: 13874 | I4: 13271 | J4: 13271 | K4: 5497 | L4: =K4 -> 5497 | M4: 4625 | N4: =M4 -> 4625 | O4: 38305 | P4: =O4 -> 38305 | Q4: 18485 | R4: =Q4 -> 18485 | S4: 13874 | T4: =S4 -> 13874
A5: 21-24 | B5: 79877 | C5: 42488 | D5: 25840 | E5: 105505 | F5: 66191 | G5: 45687 | I5: 79877 | J5: =J4+I5 -> 93148 | K5: 42488 | L5: =L4+K5 -> 47985 | M5: 25840 | N5: =N4+M5 -> 30465 | O5: 105505 | P5: =P4+O5 -> 143810 | Q5: 66191 | R5: =R4+Q5 -> 84676 | S5: 45687 | T5: =T4+S5 -> 59561
A6: 25-29 | B6: 115637 | C6: 101647 | D6: 78687 | E6: 99851 | F6: 99651 | G6: 85647 | I6: 115637 | J6: =J5+I6 -> 208785 | K6: 101647 | L6: =L5+K6 -> 149632 | M6: 78687 | N6: =N5+M6 -> 109152 | O6: 99851 | P6: =P5+O6 -> 243661 | Q6: 99651 | R6: =R5+Q6 -> 184327 | S6: 85647 | T6: =T5+S6 -> 145208
A7: 30-34 | B7: 56970 | C7: 69867 | D7: 70657 | E7: 43617 | F7: 57752 | G7: 59859 | I7: 56970 | J7: =J6+I7 -> 265755 | K7: 69867 | L7: =L6+K7 -> 219499 | M7: 70657 | N7: =N6+M7 -> 179809 | O7: 43617 | P7: =P6+O7 -> 287278 | Q7: 57752 | R7: =R6+Q7 -> 242079 | S7: 59859 | T7: =T6+S7 -> 205067
A8: 35-44 | B8: 48147 | C8: 56513 | D8: 65242 | E8: 37582 | F8: 45969 | G8: 52209 | I8: 48147 | J8: =J7+I8 -> 313902 | K8: 56513 | L8: =L7+K8 -> 276012 | M8: 65242 | N8: =N7+M8 -> 245051 | O8: 37582 | P8: =P7+O8 -> 324860 | Q8: 45969 | R8: =R7+Q8 -> 288048 | S8: 52209 | T8: =T7+S8 -> 257276
A9: 45-54 | B9: 20915 | C9: 26252 | D9: 26122 | E9: 16473 | F9: 21025 | G9: 20459 | I9: 20915 | J9: =J8+I9 -> 334817 | K9: 26252 | L9: =L8+K9 -> 302264 | M9: 26122 | N9: =N8+M9 -> 271173 | O9: 16473 | P9: =P8+O9 -> 341333 | Q9: 21025 | R9: =R8+Q9 -> 309073 | S9: 20459 | T9: =T8+S9 -> 277735
A10: 55 -80 | B10: 14922 | C10: 15250 | D10: 14956 | E10: 8406 | F10: 8441 | G10: 8394 | I10: 14922 | J10: =J9+I10 -> 349739 | K10: 15250 | L10: =L9+K10 -> 317514 | M10: 14956 | N10: =N9+M10 -> 286129 | O10: 8406 | P10: =P9+O10 -> 349739 | Q10: 8441 | R10: =R9+Q10 -> 317514 | S10: 8394 | T10: =T9+S10 -> 286129
A12: Total (n): | B12: =SUM(B4:B10) -> 349739 | C12: =SUM(C4:C10) -> 317514 | D12: =SUM(D4:D10) -> 286129 | E12: =SUM(E4:E10) -> 349739 | F12: =SUM(F4:F10) -> 317514 | G12: =SUM(G4:G10) -> 286129 | H12: Median: (Lm+(n/2 - F)*i)/fm | I12: =B15+((B16-J5)/I6)*5 -> 28.033536 | K12: =C15+((C16-L6)/K7)*5 -> 30.153026 | M12: =D15+((D16-N6)/M7)*5 -> 31.899798 | O12: =E15+((E16-P5)/O6)*5 -> 26.055292 | Q12: =F15+((F16-R5)/Q6)*5 -> 28.217022 | S12: =G15+((G16-T5)/S6)*5 -> 29.374864
A14: Median Class: | B14: 25-29 | C14: 30-34 | D14: 30-34 | E14: 25-29 | F14: 25-29 | G14: 25-29
A15: Lm: | B15: =(24+25)/2 -> 24.5 | C15: =(29+30)/2 -> 29.5 | D15: =(29+30)/2 -> 29.5 | E15: =(24+25)/2 -> 24.5 | F15: =(24+25)/2 -> 24.5 | G15: =(24+25)/2 -> 24.5
A16: n/2: | B16: =(B12)/2 -> 174869.5 | C16: =(C12)/2 -> 158757 | D16: =(D12)/2 -> 143064.5 | E16: =(E12)/2 -> 174869.5 | F16: =(F12)/2 -> 158757 | G16: =(G12)/2 -> 143064.5
A18: LQ1 | B18: =(20+21)/2 -> 20.5
A19: Class Q1 | B19: =(B12+1)/4 -> 87435 | C19: =(C12+1)/4 -> 79378.75 | D19: =(D12+1)/4 -> 71532.5 | E19: =(E12+1)/4 -> 87435 | F19: =(F12+1)/4 -> 79378.75 | G19: =(G12+1)/4 -> 71532.5
A20: Lower Quartile | B20: =($B$18+((B19-J4)/I5)*5) -> 25.142388 | C20: =($B$18+((C19-L4)/K6)*5) -> 24.134232 | D20: =($B$18+((D19-N4)/M5)*5) -> 33.446498 | E20: =($B$18+((E19-P4)/O5)*5) -> 22.828326 | F20: =($B$18+((F19-R4)/Q5)*5) -> 25.099851 | G20: =($B$18+((G19-T4)/S5)*5) -> 26.810165
A22: LQ3 | B22: =(44+45)/2 -> 44.5
A23: Class Q3 | B23: =3*(B12+1)/4 -> 262305 | C23: =3*(C12+1)/4 -> 238136.25 | D23: =3*(D12+1)/4 -> 214597.5 | E23: =3*(E12+1)/4 -> 262305 | F23: =3*(F12+1)/4 -> 238136.25 | G23: =3*(G12+1)/4 -> 214597.5
A24: Upper Quartile | B24: =($B$22+((B23-J8)/I9)*5) -> 32.165073 | C24: =($B$22+((C23-L8)/K9)*5) -> 37.286121 | D24: =($B$22+((D23-N8)/M9)*5) -> 38.67091 | E24: =($B$22+((E23-P8)/O9)*5) -> 25.51287 | F24: =($B$22+((F23-R8)/Q9)*5) -> 32.63038 | G24: =($B$22+((G23-T8)/S9)*5) -> 34.069749
A26: Interquartile Range | B26: =B24-B20 -> 7.0226852 | C26: =C24-C20 -> 13.151889 | D26: =D24-D20 -> 5.2244119 | E26: =E24-E20 -> 2.6845439 | F26: =F24-F20 -> 7.5305293 | G26: =G24-G20 -> 7.2595844

Sheet Standard Deviation
A1: Age Distribution at Marriage: UK
B2: Males | E2: Females
B3: 1991 | C3: 1996 | D3: 2001 | E3: 1991 | F3: 1996 | G3: 2001
A4: 18-20 | B4: 13271 | C4: 5497 | D4: 4625 | E4: 38305 | F4: 18485 | G4: 13874
A5: 21-24 | B5: 79877 | C5: 42488 | D5: 25840 | E5: 105505 | F5: 66191 | G5: 45687
A6: 25-29 | B6: 115637 | C6: 101647 | D6: 78687 | E6: 99851 | F6: 99651 | G6: 85647
A7: 30-34 | B7: 56970 | C7: 69867 | D7: 70657 | E7: 43617 | F7: 57752 | G7: 59859
A8: 35-44 | B8: 48147 | C8: 56513 | D8: 65242 | E8: 37582 | F8: 45969 | G8: 52209
A9: 45-54 | B9: 20915 | C9: 26252 | D9: 26122 | E9: 16473 | F9: 21025 | G9: 20459
A10: 55-80 | B10: 14922 | C10: 15250 | D10: 14956 | E10: 8406 | F10: 8441 | G10: 8394
A12: Total | B12: =SUM(B4:B10) -> 349739 | C12: =SUM(C4:C10) -> 317514 | D12: =SUM(D4:D10) -> 286129 | E12: =SUM(E4:E10) -> 349739 | F12: =SUM(F4:F10) -> 317514 | G12: =SUM(G4:G10) -> 286129
A15: x | B15: f.x | C15: f.x | D15: f.x | E15: f.x | F15: f.x | G15: f.x
A16: 19 | B16: =$A$16*B4 -> 252149 | C16: =$A$16*C4 -> 104443 | D16: =$A$16*D4 -> 87875 | E16: =$A$16*E4 -> 727795 | F16: =$A$16*F4 -> 351215 | G16: =$A$16*G4 -> 263606
A17: 22.5 | B17: =$A$17*B5 -> 1797232.5 | C17: =$A$17*C5 -> 955980 | D17: =$A$17*D5 -> 581400 | E17: =$A$17*E5 -> 2373862.5 | F17: =$A$17*F5 -> 1489297.5 | G17: =$A$17*G5 -> 1027957.5
A18: 27 | B18: =$A$18*B6 -> 3122199 | C18: =$A$18*C6 -> 2744469 | D18: =$A$18*D6 -> 2124549 | E18: =$A$18*E6 -> 2695977 | F18: =$A$18*F6 -> 2690577 | G18: =$A$18*G6 -> 2312469
A19: 32 | B19: =$A$19*B7 -> 1823040 | C19: =$A$19*C7 -> 2235744 | D19: =$A$19*D7 -> 2261024 | E19: =$A$19*E7 -> 1395744 | F19: =$A$19*F7 -> 1848064 | G19: =$A$19*G7 -> 1915488
A20: 39.5 | B20: =$A$20*B8 -> 1901806.5 | C20: =$A$20*C8 -> 2232263.5 | D20: =$A$20*D8 -> 2577059 | E20: =$A$20*E8 -> 1484489 | F20: =$A$20*F8 -> 1815775.5 | G20: =$A$20*G8 -> 2062255.5
A21: 49.5 | B21: =$A$21*B9 -> 1035292.5 | C21: =$A$21*C9 -> 1299474 | D21: =$A$21*D9 -> 1293039 | E21: =$A$21*E9 -> 815413.5 | F21: =$A$21*F9 -> 1040737.5 | G21: =$A$21*G9 -> 1012720.5
A22: 67.5 | B22: =$A$22*B10 -> 1007235 | C22: =$A$22*C10 -> 1029375 | D22: =$A$22*D10 -> 1009530 | E22: =$A$22*E10 -> 567405 | F22: =$A$22*F10 -> 569767.5 | G22: =$A$22*G10 -> 566595
A24: Ʃf.x | B24: =SUM(B16:B22) -> 10938954 | C24: =SUM(C16:C22) -> 10601748 | D24: =SUM(D16:D22) -> 9934476 | E24: =SUM(E16:E22) -> 10060686 | F24: =SUM(F16:F22) -> 9805434 | G24: =SUM(G16:G22) -> 9161091.5
A27: x^2 | B27: f.x^2 | C27: f.x^2 | D27: f.x^2 | E27: f.x^2 | F27: f.x^2 | G27: f.x^2
A28: =A16*A16 -> 361 | B28: =B4*$A$28 -> 4790831 | C28: =C4*$A$28 -> 1984417 | D28: =D4*$A$28 -> 1669625 | E28: =E4*$A$28 -> 13828105 | F28: =F4*$A$28 -> 6673085 | G28: =G4*$A$28 -> 5008514
A29: =A17*A17 -> 506.25 | B29: =B5*$A$29 -> 40437731 | C29: =C5*$A$29 -> 21509550 | D29: =D5*$A$29 -> 13081500 | E29: =E5*$A$29 -> 53411906 | F29: =F5*$A$29 -> 33509194 | G29: =G5*$A$29 -> 23129044
A30: =A18*A18 -> 729 | B30: =B6*$A$30 -> 84299373 | C30: =C6*$A$30 -> 74100663 | D30: =D6*$A$30 -> 57362823 | E30: =E6*$A$30 -> 72791379 | F30: =F6*$A$30 -> 72645579 | G30: =G6*$A$30 -> 62436663
A31: =A19*A19 -> 1024 | B31: =B7*$A$31 -> 58337280 | C31: =C7*$A$31 -> 71543808 | D31: =D7*$A$31 -> 72352768 | E31: =E7*$A$31 -> 44663808 | F31: =F7*$A$31 -> 59138048 | G31: =G7*$A$31 -> 61295616
A32: =A20*A20 -> 1560.25 | B32: =B8*$A$32 -> 75121357 | C32: =C8*$A$32 -> 88174408 | D32: =D8*$A$32 -> 1.0179383e+08 | E32: =E8*$A$32 -> 58637316 | F32: =F8*$A$32 -> 71723132 | G32: =G8*$A$32 -> 81459092
A33: =A21*A21 -> 2450.25 | B33: =B9*$A$33 -> 51246979 | C33: =C9*$A$33 -> 64323963 | D33: =D9*$A$33 -> 64005430 | E33: =E9*$A$33 -> 40362968 | F33: =F9*$A$33 -> 51516506 | G33: =G9*$A$33 -> 50129665
A34: =A22*A22 -> 4556.25 | B34: =B10*$A$34 -> 67988362 | C34: =C10*$A$34 -> 69482812 | D34: =D10*$A$34 -> 68143275 | E34: =E10*$A$34 -> 38299838 | F34: =F10*$A$34 -> 38459306 | G34: =G10*$A$34 -> 38245162
A36: Ʃf.x^2 | B36: =SUM(B28:B34) -> 3.8222191e+08 | C36: =SUM(C28:C34) -> 3.9111962e+08 | D36: =SUM(D28:D34) -> 378409252 | E36: =SUM(E28:E34) -> 3.2199532e+08 | F36: =SUM(F28:F34) -> 3.3366485e+08 | G36: =SUM(G28:G34) -> 3.2170376e+08
A38: Standard Deviation | B38: =SQRT(((B12*B36)-(B24^2))/(B12*(B12-1))) -> 10.705007 | C38: =SQRT(((C12*C36)-(C24^2))/(C12*(C12-1))) -> 10.813696 | D38: =SQRT(((D12*D36)-(D24^2))/(D12*(D12-1))) -> 10.817396 | E38: =SQRT(((E12*E36)-(E24^2))/(E12*(E12-1))) -> 9.6527326 | F38: =SQRT(((F12*F36)-(F24^2))/(F12*(F12-1))) -> 9.8577607 | G38: =SQRT(((G12*G36)-(G24^2))/(G12*(G12-1))) -> 9.9609745

Sheet Coefficients & Skewness
A1: Age Distribution at Marriage: UK
B2: Males | E2: Females
B3: 1991 | C3: 1996 | D3: 2001 | E3: 1991 | F3: 1996 | G3: 2001
A4: 18-20 | B4: 13271 | C4: 5497 | D4: 4625 | E4: 38305 | F4: 18485 | G4: 13874
A5: 21-24 | B5: 79877 | C5: 42488 | D5: 25840 | E5: 105505 | F5: 66191 | G5: 45687
A6: 25-29 | B6: 115637 | C6: 101647 | D6: 78687 | E6: 99851 | F6: 99651 | G6: 85647
A7: 30-34 | B7: 56970 | C7: 69867 | D7: 70657 | E7: 43617 | F7: 57752 | G7: 59859
A8: 35-44 | B8: 48147 | C8: 56513 | D8: 65242 | E8: 37582 | F8: 45969 | G8: 52209
A9: 45-54 | B9: 20915 | C9: 26252 | D9: 26122 | E9: 16473 | F9: 21025 | G9: 20459
A10: 55-80 | B10: 14922 | C10: 15250 | D10: 14956 | E10: 8406 | F10: 8441 | G10: 8394
A16: Coefficient of Variation: | B16: =('Standard Deviation'!B38/'Mean '!B26)*100 -> 34.225925 | C16: =('Standard Deviation'!C38/'Mean '!C26)*100 -> 32.386166 | D16: =('Standard Deviation'!D38/'Mean '!D26)*100 -> 31.155851 | E16: =('Standard Deviation'!E38/'Mean '!E26)*100 -> 33.555734 | F16: =('Standard Deviation'!F38/'Mean '!F26)*100 -> 31.920841 | G16: =('Standard Deviation'!G38/'Mean '!G26)*100 -> 31.11118
A18: Skewness: | B18: Positive | C18: Positive | D18: Positive | E18: Positive | F18: Positive | G18: Positive
A20: Conclusion: | B20: The median age of men who got married increased from 28.03 to 30.15 and 30.89 respectively, moving from the 3rd median class to the 4th
B21: Where as the median age for the females also increased steadily from 26.05 to 28.21 and 29.37 but remained in the 3rd median class over the years.
B22: This shows that in both genders, persons got married as they got older, hence a clothing line that specialises in bridal wear should consider the age range of their customers
B23: This information would allow them to better serve the customers wants and needs in the wedding industry and would become successful over time.
