Workbook

Sheet LAB 2 RESULTS
A1: 1 | B1: 344.6 | C1: 80.23 | D1: 79.85
A2: 2 | B2: 345.6 | C2: 79.54 | D2: 82.41
A3: 3 | B3: 345.6 | C3: 79.87 | D3: 69.31
A4: 4 | B4: 347.9 | C4: 82.69 | D4: 79.23
A5: 5 | B5: 330.3 | C5: 79.67 | D5: 87.47
A6: 6 | B6: 334.6 | C6: 81.2 | D6: 52.34
A7: 7 | B7: 312 | C7: 72.58 | D7: 82.7
A8: 8 | B8: 325 | C8: 73.99 | D8: 86.29
A9: 9 | B9: 348 | C9: 81.9
A10: 10 | B10: 346 | C10: 82.8
A11: 11 | B11: 356 | C11: 84.3
A12: 12 | B12: 350.9 | C12: 83.5
A13: 13 | B13: 351.7 | C13: 80.98
A14: 14 | B14: 349.9 | C14: 83.18
A15: 15 | B15: 328.2 | C15: 82.35
A16: 16 | B16: 337.9 | C16: 79.18
A17: 17 | B17: 235.1 | C17: 79.86
A18: 18 | B18: 249.4 | C18: 57.31
A19: 19 | B19: 339.5 | C19: 59.43
A20: 20 | B20: 346.9 | C20: 80.3
... A24: 24 | B24: 348.8 | C24: 83.15
A25: 25 | C25: 83.86

Sheet Sheet4
A1: t-Test: Two-Sample Assuming Unequal Variances
B3: Variable 1 | C3: Variable 2
A4: Mean | B4: 78.96 | C4: 78.162222
A5: Variance | B5: 48.280965 | C5: 121.61662
A6: Observations | B6: 24 | C6: 9
A7: Hypothesized Mean Difference | B7: 0
A8: df | B8: 10
A9: t Stat | B9: 0.20247473
A10: P(T<=t) one-tail | B10: 0.42180283
A11: t Critical one-tail | B11: 1.8124611
A12: P(T<=t) two-tail | B12: 0.84360565
A13: t Critical two-tail | B13: 2.2281389
A15: for #7 test bw group mean for powder and tablet

Sheet Sheet5
A1: F-Test Two-Sample for Variances
B3: Variable 1 | C3: Variable 2
A4: Mean | B4: 79.156 | C4: 77.45
A5: Variance | B5: 47.229658 | C5: 133.77289
A6: Observations | B6: 25 | C6: 8
A7: df | B7: 24 | C7: 7
A8: F | B8: 0.35305853
A9: P(F<=f) one-tail | B9: 0.026617502
A10: F Critical one-tail | B10: 0.4127748

Sheet Sheet1
A1: Individual tablets | G1: Control Chart Data | K1: T Test: One Sample | M1: for individual sample results (analyst)
A2: sample no. | B2: mg/tab | C2: x̄(mg) | D2: s
A3: 1 | B3: 339.5 | C3: =AVERAGE(B3:B5) -> 343.43333 | D3: =AVERAGE(STDEV(B3:B5)) -> 3.7220066 | K3: SUMMARY | N3: Alpha | O3: 0.05
A4: 2 | B4: 346.9 | C4: N=3 | G4: Target value | K4: Count | L4: Mean | M4: Std Dev | N4: Std Err | O4: t | P4: df
A5: 3 | B5: 343.9 | H5: 325 | K5: =COUNT(B3:B5) -> 3 | L5: =AVERAGE(B3:B5) -> 343.43333 | M5: =STDEV(B3:B5) -> 3.7220066 | N5: =M5/SQRT(K5) -> 2.1489015 | O5: =(L5-O7)/N5 -> 8.5780261 | P5: =K5-1 -> 2
A7: Individual Tablets (group) | G7: Warning line | K7: T TEST | N7: Hyp Mean | O7: 325
A8: sample no. | B8: mg/tab | C8: %weight | E8: x̄(mg) | F8: s | H8: Lower | I8: upper | L8: p-value | M8: t-crit | N8: lower | O8: upper | P8: sig
A9: 1 | B9: 344.6 | C9: 80.23 | E9: =B9:B32 -> 344.6 | F9: =STDEV(B9:B32) -> 29.894307 | H9: 312.7957 | I9: 337.2043 | K9: One Tail | L9: =TDIST(ABS(O5),P5,1) -> 0.0066596359 | M9: =TINV(O3*2,P5) -> 2.9199856 | P9: =IF(L9<O3,"yes","no") -> yes
A10: 2 | B10: 345.6 | C10: 79.54 | E10: N=24 | K10: Two Tail | L10: =TDIST(ABS(O5),P5,2) -> 0.013319272 | M10: =TINV(O3,P5) -> 4.3026527 | N10: =L5-M10*N5 -> 334.18736 | O10: =L5+M10*N5 -> 352.67931 | P10: =IF(L10<O3,"yes","no") -> yes
A11: 3 | B11: 345.6 | C11: 79.87 | G11: Action Line
A12: 4 | B12: 347.9 | C12: 82.69 | E12: x̄(%wt) | F12: s | H12: Lower | I12: upper | K12: T Test: One Sample | M12: for group tablet weight
A13: 5 | B13: 330.3 | C13: 79.67 | E13: =AVERAGE(C9:C33) -> 79.156 | F13: =STDEV(C9:C33) -> 6.8723837 | H13: 306.6935 | I13: 343.3065
A14: 6 | B14: 334.6 | C14: 81.2 | E14: N=25 | K14: SUMMARY | N14: Alpha | O14: 0.05
A15: 7 | B15: 312 | C15: 72.58 | G15: T-tests | K15: Count | L15: Mean | M15: Std Dev | N15: Std Err | O15: t | P15: df
A16: 8 | B16: 325 | C16: 73.99 | G16: 95% t value | H16: 2.92 | I16: N=3 | K16: =COUNT(B9:B32) -> 24 | L16: =AVERAGE(B9:B32) -> 333.6 | M16: =STDEV(B9:B32) -> 29.894307 | N16: =M16/SQRT(K16) -> 6.1021498 | O16: =Sheet1!$O$41 -> 337.2043 | P16: =K16-1 -> 23
A17: 9 | B17: 348 | C17: 81.9 | H17: 1.71 | I17: N=24
A18: 10 | B18: 346 | C18: 82.8 | H18: 1.7 | I18: N=31 | K18: T TEST | N18: Hyp Mean | O18: 325
A19: 11 | B19: 356 | C19: 84.3 | L19: p-value | M19: t-crit | N19: lower | O19: upper | P19: sig
A20: 12 | B20: 350.9 | C20: 83.5 | G20: t-calc (for x̄ and µ) | H20: =O5 -> 8.5780261 | I20: individual data | K20: One Tail | L20: =TDIST(ABS(O16),P16,1) -> 2.7082328e-44 | M20: =TINV(O14*2,P16) -> 1.7138715 | P20: =IF(L20<O14,"yes","no") -> yes
A21: 13 | B21: 351.7 | C21: 80.98 | K21: Two Tail | L21: =TDIST(ABS(O16),P16,2) -> 5.4164657e-44 | M21: =TINV(O14,P16) -> 2.0686576 | N21: =L16-M21*N16 -> 320.97674 | O21: =L16+M21*N16 -> 346.22326 | P21: =IF(L21<O14,"yes","no") -> yes
A22: 14 | B22: 349.9 | C22: 83.18 | G22: t-calc (for x̄ and µ) | H22: =O16 -> 337.2043 | I22: individual data
A23: 15 | B23: 328.2 | C23: 82.35 | K23: t-Test: Two-Sample Assuming Equal Variances
A24: 16 | B24: 337.9 | C24: 79.18 | G24: t-calc (2 x̄ comp) | H24: =L32 -> 0.51397372 | I24: individual data | K24: Comparison of group mean %wt for powder and tablet
A25: 17 | B25: 235.1 | C25: 79.86 | L25: Variable 1 | M25: Variable 2
A26: 18 | B26: 249.4 | C26: 57.31 | G26: F-Test Two-Sample for Variances | K26: Mean | L26: 79.156 | M26: 77.45
A27: 19 | B27: 339.5 | C27: 59.43 | K27: Variance | L27: 47.229658 | M27: 133.77289
A28: 20 | B28: 346.9 | C28: 80.3 | H28: Variable 1 | I28: Variable 2 | K28: Observations | L28: 25 | M28: 8
A29: 21 | B29: 343.9 | C29: 81.5 | G29: Mean | H29: 79.156 | I29: 77.45 | K29: Pooled Variance | L29: 66.771677
A30: 22 | B30: 347.1 | C30: 80.4 | G30: Variance | H30: 47.229658 | I30: 133.77289 | K30: Hyp. Mean Diff. | L30: 0
A31: 23 | B31: 341.5 | C31: 85.13 | G31: Observations | H31: 25 | I31: 8 | K31: df | L31: 31
A32: 24 | B32: 348.8 | C32: 83.15 | G32: df | H32: 24 | I32: 7 | K32: t Stat | L32: 0.51397372
A33: 25 | C33: 83.86 | G33: F | H33: 0.35305853 | K33: P(T<=t) one-tail | L33: 0.30545746
A34: Tablet Powder group | G34: P(F<=f) one-tail | H34: 0.026617502 | K34: t Critical one-tail | L34: 1.6955188
A35: sample no | B35: % wt | C35: x̄(%wt) | D35: s | G35: F Critical one-tail | H35: 0.4127748 | K35: P(T<=t) two-tail | L35: 0.61091492
A36: 1 | B36: 79.85 | C36: =B36:B43 -> 79.85 | D36: =STDEV(B36:B43) -> 11.566023 | K36: t Critical two-tail | L36: 2.0395134
A37: 2 | B37: 82.41
A38: 3 | B38: 69.31 | C38: N=8
A39: 4 | B39: 79.23
A40: 5 | B40: 87.47 | L40: Tablet weight(mg) | M40: std dev | N40: mean | O40: upper warning line | P40: upper action line | Q40: lower warning line | R40: lower action line
A41: 6 | B41: 52.34 | L41: 344.6 | M41: 29.89431 | N41: 325 | O41: =325+(2*(M41)/SQRT(24)) -> 337.2043 | P41: =325+(3*(M41)/SQRT(24)) -> 343.30645 | Q41: =325-(2*(M41)/SQRT(24)) -> 312.7957 | R41: =325-(3*(M41)/SQRT(24)) -> 306.69355
...

Sheet Sheet2
J3: =(STDEV(Sheet1!L41:L64)) -> 29.894307
