Workbook

Sheet Insert Data for 1,2,4 here
A1: Company | B1: Sales | C1: Earnings
A2: 1 | B2: 24.4 | C2: -1.8
A3: 2 | B3: 37.5 | C3: -0.7
A4: 3 | B4: 20 | C4: -3.3
A5: 4 | B5: 33.8 | C5: -1.1
A6: 5 | B6: 51.1 | C6: 0.9
A7: 6 | B7: 25.2 | C7: -1.8
A8: 7 | B8: 32 | C8: -1.3
A9: 8 | B9: 58 | C9: 2.6
A10: 9 | B10: 58.1 | C10: 1.9
A11: 10 | B11: 21.2 | C11: -3.1
A12: 11 | B12: 38.9 | C12: -0.8
A13: 12 | B13: 47.7 | C13: 0.6
... A16: 15 | B16: 31.4 | C16: -1.6
B21: =AVERAGE(B2:B16) -> 35.92 | C21: =AVERAGE(C2:C16) -> -0.84 | D21: DO NOT TOUCH THESE NUMBERS, THE AFFECT OTHER PAGES
B22: =_xlfn.STDEV.S(B2:B16) -> 12.647315 | C22: =_xlfn.STDEV.S(C2:C16) -> 1.6787751

Sheet Question 1 & 4
O7: QUESTION 4
O9: INSERT A VALUE HERE | R9: 0.13
K10: MAKE SURE TO CHANGE THESE --> | O10: INSERT B VALUE HERE | R10: -5.51
O11: INSERT VALUE IN QUESTION | R11: 84.9
O14: =R9*R11+R10 -> 5.527 | Q14: <---- Answer

Sheet Question 2
A5: count | B5: 15 | C5: 15
A6: mean | B6: ='Insert Data for 1,2,4 here'!B21 -> 35.92 | C6: ='Insert Data for 1,2,4 here'!C21 -> -0.84
A7: sample standard deviation | B7: ='Insert Data for 1,2,4 here'!B22 -> 12.647315 | C7: ='Insert Data for 1,2,4 here'!C22 -> 1.6787751
G8: ='Insert Data for 1,2,4 here'!B2 -> 24.4 | H8: ='Insert Data for 1,2,4 here'!C2 -> -1.8 | J8: =(G8-$B$6)/$B$7 -> -0.91086529 | K8: =(H8-$C$6)/$C$7 -> -0.57184552 | M8: =J8*K8 -> 0.52087423
G9: ='Insert Data for 1,2,4 here'!B3 -> 37.5 | H9: ='Insert Data for 1,2,4 here'!C3 -> -0.7 | J9: =(G9-$B$6)/$B$7 -> 0.1249277 | K9: =(H9-$C$6)/$C$7 -> 0.083394138 | M9: =J9*K9 -> 0.010418238
G10: ='Insert Data for 1,2,4 here'!B4 -> 20 | H10: ='Insert Data for 1,2,4 here'!C4 -> -3.3 | J10: =(G10-$B$6)/$B$7 -> -1.2587652 | K10: =(H10-$C$6)/$C$7 -> -1.4653541 | M10: =J10*K10 -> 1.8445368
G11: ='Insert Data for 1,2,4 here'!B5 -> 33.8 | H11: ='Insert Data for 1,2,4 here'!C5 -> -1.1 | J11: =(G11-$B$6)/$B$7 -> -0.16762451 | K11: =(H11-$C$6)/$C$7 -> -0.15487483 | M11: =J11*K11 -> 0.025960818
G12: ='Insert Data for 1,2,4 here'!B6 -> 51.1 | H12: ='Insert Data for 1,2,4 here'!C6 -> 0.9 | J12: =(G12-$B$6)/$B$7 -> 1.2002548 | K12: =(H12-$C$6)/$C$7 -> 1.03647 | M12: =J12*K12 -> 1.2440281
G13: ='Insert Data for 1,2,4 here'!B7 -> 25.2 | H13: ='Insert Data for 1,2,4 here'!C7 -> -1.8 | J13: =(G13-$B$6)/$B$7 -> -0.84761075 | K13: =(H13-$C$6)/$C$7 -> -0.57184552 | M13: =J13*K13 -> 0.48470241
G14: ='Insert Data for 1,2,4 here'!B8 -> 32 | H14: ='Insert Data for 1,2,4 here'!C8 -> -1.3 | J14: =(G14-$B$6)/$B$7 -> -0.30994722 | K14: =(H14-$C$6)/$C$7 -> -0.27400931 | M14: =J14*K14 -> 0.084928423
G15: ='Insert Data for 1,2,4 here'!B9 -> 58 | H15: ='Insert Data for 1,2,4 here'!C9 -> 2.6 | J15: =(G15-$B$6)/$B$7 -> 1.7458251 | K15: =(H15-$C$6)/$C$7 -> 2.0491131 | M15: =J15*K15 -> 3.5773932
G16: ='Insert Data for 1,2,4 here'!B10 -> 58.1 | H16: ='Insert Data for 1,2,4 here'!C10 -> 1.9 | J16: =(G16-$B$6)/$B$7 -> 1.7537319 | K16: =(H16-$C$6)/$C$7 -> 1.6321424 | M16: =J16*K16 -> 2.8623403
G17: ='Insert Data for 1,2,4 here'!B11 -> 21.2 | H17: ='Insert Data for 1,2,4 here'!C11 -> -3.1 | J17: =(G17-$B$6)/$B$7 -> -1.1638834 | K17: =(H17-$C$6)/$C$7 -> -1.3462197 | M17: =J17*K17 -> 1.5668427
G18: ='Insert Data for 1,2,4 here'!B12 -> 38.9 | H18: ='Insert Data for 1,2,4 here'!C12 -> -0.8 | J18: =(G18-$B$6)/$B$7 -> 0.23562314 | K18: =(H18-$C$6)/$C$7 -> 0.023826897 | M18: =J18*K18 -> 0.0056141682
G19: ='Insert Data for 1,2,4 here'!B13 -> 47.7 | H19: ='Insert Data for 1,2,4 here'!C13 -> 0.6 | J19: =(G19-$B$6)/$B$7 -> 0.93142301 | K19: =(H19-$C$6)/$C$7 -> 0.85776828 | M19: =J19*K19 -> 0.79894511
... G22: ='Insert Data for 1,2,4 here'!B16 -> 31.4 | H22: ='Insert Data for 1,2,4 here'!C16 -> -1.6 | J22: =(G22-$B$6)/$B$7 -> -0.35738812 | K22: =(H22-$C$6)/$C$7 -> -0.45271104 | M22: =J22*K22 -> 0.16179354
M25: =SUM(M8:M24) -> 13.712888
M26: =M25/(C5-1) -> 0.97949202 | N26: <---------Awnser

Sheet Question 5 & 6
A1: Observations | C1: 15 | D1: equals n | F1: <----useless row
A2: Intercept | C2: -0.04 | F2: <---needed
A3: Sales Coefficient | C3: 0.02 | F3: <---needed
A4: Coefficient of Cor | C4: 0.543 | D4: equals r | F4: <----useless row
A5: Value of t stat | C5: 2.419 | D5: equals t | F5: <----useless row
A7: $ value in question | C7: 17.3 | F7: <---needed
C9: =C2+(C3*C7) -> 0.306 | E9: =C9*1000 -> 306 | F9: <---- answer
