Workbook

Sheet Transactions
A1: Assignment 3- Transactions
A2: Deferral Method: Adjustments
A4: Q. | B4: Trans. | C4: Account | E4: DR | F4: CR
A5: 1 | B5: Jan, 20X2 | C5: Cash | E5: 60000
D6: Net assets- Endowments | F6: 60000 | G6: net assets
C7: Amount to be kept in permanence.
A9: 2 | B9: Dec, 20X2 | C9: Deferred contribution- gov't grant | E9: 33000
D10: Contribution revenue | F10: 33000
C11: Grant for completed special project.
A13: 3 | B13: Nov. 20X2 | C13: Donations receivable | E13: 25000
D14: Contributed revenue | F14: 25000
C15: Amount from Sandra Black.
A17: 4 | B17: Dec. 20X2 | C17: Cash | E17: 6200
D18: Contribution revenue | F18: 6200
C19: Road block fundraising amount.
A21: 5 | B21: 31 March, 20X2 | C21: Equipment and Vehicles | E21: 43000
D22: Cash | F22: 43000
C23: To purchase vehicle.
C26: Net assets- unrestricted | E26: 43000
D27: Net assets- invested in capital assets | F27: 43000
C28: Adjustment to reflect seperation of net assets.
A31: 6 | B31: Feb, 20X2 | C31: Deferred contribution- United way and City of Ottawa | E31: 19000
D32: Contributed revenue- United way and City of Ottawa | F32: 19000
B34: March, 20X2 | C34: Cash | E34: 90000
D35: Deferred contribution- United Way and City of Ottawa | F35: 90000
B37: 31 Dec., 20X2 | C37: Deferred contribution- United Way and City of Ottawa | E37: 75000
D38: Contributed revenue | F38: 75000
C39: Contribution used in 20X2.
C40: 90,000x(10/12)
A42: 7 | B42: 31 Dec., 20X2 | C42: Accounts payable | E42: 35000
D43: Cash | F43: 35000
C44: Accounts payable paid throughout the year.
C46: Salaries expense | E46: 55000
C47: Special project expenses | E47: 40000
C48: Office expenses | E48: 12000
C49: Support to families expense | E49: 32000
C50: Education activities expense | E50: 21000
C51: Rental expense | E51: 9600
C52: Transportation expense | E52: 5000
D53: Cash | F53: 160600
...

Sheet Statement of Operations
A1: Statement of Operations
A2: Revenues
B3: Donations | E3: =Transactions!F14 -> 25000
B4: Government grant | E4: =Transactions!F10 -> 33000
B5: Contribution- United Way and City of Ottawa | E5: =Transactions!F38+Transactions!#REF!+Transactions!F32 -> #REF!
B6: Contribution- net assets | E6: =Transactions!F88 -> 12000
B7: Fundraising | E7: =Transactions!F18 -> 6200
E8: =SUM(E3:E7) -> #REF!
A9: Expenses
B10: Operating | D10: =Transactions!#REF! -> #REF!
B11: Project | D11: =Transactions!#REF! -> #REF!
B12: Amortization | D12: =Transactions!E67+Transactions!E58 -> 44071
B13: =Transactions!C46 -> Salaries expense | D13: =Transactions!E46 -> 55000
B14: =Transactions!C47 -> Special project expenses | D14: =Transactions!E47 -> 40000
B15: =Transactions!C48 -> Office expenses | D15: =Transactions!E48 -> 12000
B16: =Transactions!C49 -> Support to families expense | D16: =Transactions!E49 -> 32000
B17: =Transactions!C50 -> Education activities expense | D17: =Transactions!E50 -> 21000
B18: =Transactions!C51 -> Rental expense | D18: =Transactions!E51 -> 9600
B19: =Transactions!C52 -> Transportation expense | D19: =Transactions!E52 -> 5000 | E19: =SUM(D10:D19) -> #REF!
A20: Excess of expenses over revenues | E20: =E8-E19 -> #REF!

Sheet Change in Net Assets
A1: Statement of changes in net assets
C2: Invested in Capital Assets | D2: Endowment | E2: Unrestricted | F2: Total
A3: Balance, beginning | C3: 285000 | D3: 0 | E3: 95000 | F3: =SUM(C3:E3) -> 380000
A4: Excess of expenses over revenues | E4: ='Statement of Operations'!E20 -> #REF! | F4: =SUM(C4:E4) -> #REF!
A5: Unrestricted net assets in capital assets:
B6: Vehicle | C6: -4071 | E6: 4071 | F6: =SUM(C6:E6) -> 0
B7: Equipment and Vehicles | C7: -40000 | E7: 40000 | F7: =SUM(C7:E7) -> 0
A8: Contribution- Term deposits | C8: =Transactions!F87 -> 3000 | F8: =SUM(C8:E8) -> 3000
A9: Contribution- Endowments | D9: =Transactions!F6 -> 60000 | F9: =SUM(C9:E9) -> 60000
A10: Balance, end | C10: =SUM(C3:C9) -> 243929 | D10: =SUM(D3:D9) -> 60000 | E10: =SUM(E3:E9) -> #REF! | F10: =SUM(F3:F9) -> #REF!

Sheet Statement of Financial Position
A1: Statement of financial position
A2: Current Assets
B3: Cash | D3: =42000+Transactions!E5-Transactions!#REF!+Transactions!E17-Transactions!F22+Transactions!E34-Transactions!#REF!-Transactions!F53+Transactions!E78-Transactions!F83+Transactions!E86-Transactions!F43 -> #REF!
B4: Donations receivable | D4: =Transactions!E13 -> 25000
D5: =SUM(D3:D4) -> #REF!
A6: Long-Term Assets
B7: Term deposits | D7: =140000-Transactions!F79+Transactions!E82 -> 80000
B8: Equipment and vehicles | C8: =360000+Transactions!E21 -> 403000
B9: Less: accumulated amortization | C9: =(75000+Transactions!F68+Transactions!F59)*-1 -> -119071 | D9: =SUM(C8:C9) -> 283929
D10: =SUM(D5:D9) -> #REF!
A11: Current Liabilities
B12: Accounts payable | D12: =Transactions!F54 -> 14000
A13: Deferred Contribution- United Way and City of Ottawa | D13: =Transactions!F35+Transactions!#REF!-Transactions!E37-Transactions!#REF! -> #REF!
A15: Net Assets
B16: Invested in capital assets | C16: ='Change in Net Assets'!C10 -> 243929
B17: Endowment | C17: ='Change in Net Assets'!D10 -> 60000
B18: Unrestricted | C18: ='Change in Net Assets'!E10 -> #REF! | D18: =SUM(C16:C18) -> #REF!
D19: =SUM(D12:D18) -> #REF!

Sheet Sheet1

Sheet Footnotes
C2: Footnotes
C4: OADC follows the deferral method of accounting for contributions.
C6: Revenue received in respect of program support is deferred in the accounts until the related expenditures are incurred
C8: unrestricted contributions are recognized as revenue when received. Funds received designated for an activity or project by the donor ar recognized as revenue when used for the purpose for which the funds were received.
